BEGIN:VCALENDAR
VERSION:2.0
PRODID:-//ChamberMaster//Event Calendar 2.0//EN
METHOD:PUBLISH
X-PUBLISHED-TTL:P3D
REFRESH-INTERVAL:P3D
CALSCALE:GREGORIAN
BEGIN:VEVENT
DTSTART;VALUE=DATE:20140901
DTEND;VALUE=DATE:20140902
TRANSP:TRANSPARENT
X-MICROSOFT-CDO-ALLDAYEVENT:TRUE
SUMMARY:2014-2015 GML Program Subscription
DESCRIPTION:Good Morning Livingston Program Subscriptions are available for the 2014 - 2015 season.\n\n \n\n\nDon't miss out  on any of the great Good Morning Livingston programs scheduled for the second Tuesday of every month\, September through May (with the exception of December).\n\nAttendance continues to be strong  as word has spread that Good Morning Livingston is "the" place to be the second Tuesday each month for great information\, outstanding networking and fun - and a delicious breakfast too. Plan to be there every month! \n\nA GML subscription  makes it easy to get in on a great deal for all eight Good Morning Livingston programs for 2014-2015. Sign-up now and eliminate the hassle and delay of paying at the door.\n\n \n\nProgram Topics Include:\n\n* What's New in Livingston County\n\n* 2015 Economic Forecast\n\n* Adventures in Entrepreneurship\n\n        ..... and much more!
X-ALT-DESC;FMTTYPE=text/html:<span style="color: rgb(0\, 0\, 0)\;"><strong><span style="font-size: 18px\;">Good Morning Livingston Program Subscriptions are available for the 2014 - 2015 season.</span></strong></span>\n\n<div style="text-align: center\;">&nbsp\;</div>\n<br />\n<span style="font-weight: bold\; language: en-US\;"><span style="font-size: 16pt\;"><span style="font-family: tahoma\;"><span style="color: black\;">Don&rsquo\;t miss out</span></span></span></span><span style="language: en-US\;"><span style="font-size: 16pt\;"><span style="font-family: tahoma\;"><span style="color: black\;">&hellip\;</span></span></span></span><span style="language: en-US\;"><span style="font-size: 14pt\;"><span style="font-family: tahoma\;"><span style="color: black\;"> on any of the great Good Morning Livingston programs scheduled for the second Tuesday of every month\, September through May (with the exception of December).</span></span></span></span><br />\n<span style="font-weight: bold\; language: en-US\;"><span style="font-size: 16pt\;"><span style="font-family: tahoma\;"><span style="color: black\;">Attendance continues to be strong</span></span></span></span><span style="language: en-US\;"><span style="font-size: 16pt\;"><span style="font-family: tahoma\;"><span style="color: black\;">&hellip\;</span></span></span></span><span style="language: en-US\;"><span style="font-size: 14pt\;"><span style="font-family: tahoma\;"><span style="color: black\;"> as word has spread that Good Morning Livingston is &ldquo\;the&rdquo\; place to be the second Tuesday each month for great information\, outstanding networking and fun - and a delicious breakfast too. Plan to be there every month! </span></span></span></span><br />\n<span style="font-weight: bold\; language: en-US\;"><span style="font-size: 16pt\;"><span style="font-family: tahoma\;"><span style="color: black\;">A GML subscription</span></span></span></span><span style="language: en-US\;"><span style="font-size: 16pt\;"><span style="font-family: tahoma\;"><span style="color: black\;">&hellip\;</span></span></span></span><span style="language: en-US\;"><span style="font-size: 14pt\;"><span style="font-family: tahoma\;"><span style="color: black\;"> makes it easy to get in on a great deal for all eight Good Morning Livingston programs for 2014-2015. Sign-up now and eliminate the hassle and delay of paying at the door.</span></span></span></span><br />\n&nbsp\;<br />\n<span style="color: rgb(0\, 0\, 0)\;"><span style="font-size: 18px\;"><u><strong>Program Topics Include:</strong></u><br />\n* What&#39\;s New in Livingston County<br />\n* 2015 Economic Forecast<br />\n* Adventures in Entrepreneurship<br />\n&nbsp\;&nbsp\;&nbsp\;&nbsp\;&nbsp\;&nbsp\;&nbsp\;&nbsp\;..... and much more!</span></span>
LOCATION:
UID:e.1376.2388
SEQUENCE:3
DTSTAMP:20260425T160542Z
URL:https://chamber.howell.org/events/details/2014-2015-gml-program-subscription-09-01-2014-2388
END:VEVENT

END:VCALENDAR
