BEGIN:VCALENDAR
VERSION:2.0
PRODID:-//ChamberMaster//Event Calendar 2.0//EN
METHOD:PUBLISH
X-PUBLISHED-TTL:P3D
REFRESH-INTERVAL:P3D
CALSCALE:GREGORIAN
BEGIN:VEVENT
DTSTART;VALUE=DATE:20201127
DTEND;VALUE=DATE:20201130
TRANSP:TRANSPARENT
X-MICROSOFT-CDO-ALLDAYEVENT:TRUE
SUMMARY:2020 Fantasy of Lights Virtual Fun Run
DESCRIPTION:Each year the Howell Area Chamber of Commerce Foundation hosts a nighttime run down Grand River in downtown Howell. This year we're not able to offer the same experience\, but we invite you to participate in a virtual event as part of the Fantasy of Lights weekend festivities.\n\n\n\nThe run starts the day after Thanksgiving and can be completed anytime throughout the weekend. Registrants will have the ability to submit times for results\, upload festive photos of your run\, and download your customized finisher's certificate.\n\n\n\nDon your holiday apparel and twinkling lights as you race through Howell.\n\n\n\nREGISTER HERE!
X-ALT-DESC;FMTTYPE=text/html:<div class="eventDescription" style="margin: 0px\; padding: 0px\; border: 0px currentColor\; border-image: none\; color: rgb(34\, 34\, 34)\; line-height: inherit\; font-family: &quot\;Helvetica Neue&quot\;\, Helvetica\, Roboto\, Arial\, sans-serif\; font-size: 16px\; vertical-align: baseline\; box-sizing: border-box\; font-stretch: inherit\; background-color: rgb(255\, 255\, 255)\; font-variant-numeric: inherit\; font-variant-east-asian: inherit\;">Each year the Howell Area Chamber of Commerce Foundation hosts a nighttime run down Grand River in downtown Howell. This year we&rsquo\;re not able to offer the same experience\, but we invite you to participate in a virtual event as part of the Fantasy of Lights weekend festivities.<br style="box-sizing: border-box\;" />\n<br style="box-sizing: border-box\;" />\nThe run starts the day after Thanksgiving and can be completed anytime throughout the weekend. Registrants will have the ability to submit times for results\, upload festive photos of your run\, and download your customized finisher&#39\;s certificate.<br style="box-sizing: border-box\;" />\n<br style="box-sizing: border-box\;" />\nDon your holiday apparel and twinkling lights as you race through Howell.<br />\n<br />\n<a href="https://fantasy5k.enmotive.com/events/register/2020-fantasy-of-lights-virtual-5k">REGISTER HERE!</a></div>\n
LOCATION:
UID:e.1376.14198
SEQUENCE:3
DTSTAMP:20260423T161637Z
URL:https://chamber.howell.org/events/details/2020-fantasy-of-lights-virtual-fun-run-14198
END:VEVENT

END:VCALENDAR
