BEGIN:VCALENDAR
VERSION:2.0
PRODID:-//ChamberMaster//Event Calendar 2.0//EN
METHOD:PUBLISH
X-PUBLISHED-TTL:P3D
REFRESH-INTERVAL:P3D
CALSCALE:GREGORIAN
BEGIN:VEVENT
DTSTART:20180929T140000Z
DTEND:20180929T170000Z
X-MICROSOFT-CDO-ALLDAYEVENT:FALSE
SUMMARY:3rd Annual Maker Saturday
DESCRIPTION:Who is a maker? We are all makers! Today celebrates the past\, present\, and future of local makers. Stop by to make something and be inspired by others that make at this family-friendly event! Don't miss the Great Foodini Renee Chodkowski's "Farm to Table" demonstration at 10:30am in the Library's Meabon Room. All other demonstrations and activities will be ongoing between 10:00am and 1:00pm\, both inside and outside\, weather permitting including a chainsaw woodcarver! Drop In\, no registration required.
X-ALT-DESC;FMTTYPE=text/html:<p align="LEFT">&nbsp\;</p>\n\n<p><font size="3">Who is a maker? We are all makers! Today celebrates the past\, present\, and future of local makers. Stop by to make something and be inspired by others that make at this family-friendly event! Don&rsquo\;t miss the Great Foodini Renee Chodkowski&rsquo\;s &quot\;Farm to Table&quot\; demonstration at 10:30am in the Library&rsquo\;s Meabon Room. All other demonstrations and activities will be ongoing between 10:00am and 1:00pm\, both inside and outside\, weather permitting&mdash\;including a chainsaw woodcarver! Drop In\, no registration required. </font></p>\n
LOCATION:Howell Carnegie District Library 314 W. Grand River Howell
UID:e.1376.9325
SEQUENCE:3
DTSTAMP:20260421T075557Z
URL:https://chamber.howell.org/events/details/3rd-annual-maker-saturday-9325
END:VEVENT

END:VCALENDAR
