BEGIN:VCALENDAR
VERSION:2.0
PRODID:-//ChamberMaster//Event Calendar 2.0//EN
METHOD:PUBLISH
X-PUBLISHED-TTL:P3D
REFRESH-INTERVAL:P3D
CALSCALE:GREGORIAN
BEGIN:VEVENT
DTSTART:20161202T220000Z
DTEND:20161203T010000Z
X-MICROSOFT-CDO-ALLDAYEVENT:FALSE
SUMMARY:Annual Holiday Open House
DESCRIPTION:Join us at the Howell Area Chamber of Commerce Annual Holiday Open House. Enjoy wine tasting\, beer tasting\, live entertainment\, refreshments from area restaurants\, great networking and plenty of holiday cheer!
X-ALT-DESC;FMTTYPE=text/html:<p>Join us at the Howell Area Chamber of Commerce Annual Holiday Open House. Enjoy wine tasting\, beer tasting\, live entertainment\, refreshments from area restaurants\, great networking and plenty of holiday cheer!</p>\n
LOCATION:Howell Area Chamber of Commerce 123 E. Washington St.
UID:e.1376.3861
SEQUENCE:3
DTSTAMP:20260419T182354Z
URL:https://chamber.howell.org/events/details/annual-holiday-open-house-3861
END:VEVENT

END:VCALENDAR
