BEGIN:VCALENDAR
VERSION:2.0
PRODID:-//ChamberMaster//Event Calendar 2.0//EN
METHOD:PUBLISH
X-PUBLISHED-TTL:P3D
REFRESH-INTERVAL:P3D
CALSCALE:GREGORIAN
BEGIN:VEVENT
DTSTART:20140909T113000Z
DTEND:20140909T130000Z
X-MICROSOFT-CDO-ALLDAYEVENT:FALSE
SUMMARY:Good Morning Livingston
DESCRIPTION:"What's New in Livingston County"\n\n\n\nSpeakers for the event include Howell City Manager Shea Charles\, Genoa Township Supervisor Gary McCririe\, and Livingston County administrator Belinda Peters.\n\n\n\nChamber Members: Save time at registration when you purchase an annual subscription to Good Morning Livingston\, and receive a program coupon to share. Subscriptions are transferable. Your $160 subscription gets you all eight GML programs in the series. Click here for a subscription form . Past subscribers must re-submit a new form each year.\n\n\n\nOr purchase and pay for the series online at http://howell.chambermaster.com/events/details/2014-2015-gml-program-subscription-2388
X-ALT-DESC;FMTTYPE=text/html:<br />\n<strong>&ldquo\;What&rsquo\;s New in Livingston County&rdquo\;</strong><br />\n<br />\nSpeakers for the event include Howell City Manager Shea Charles\, Genoa Township Supervisor Gary McCririe\, and Livingston County administrator Belinda Peters.<br />\n<br />\n<strong>Chamber Members</strong>: Save time at registration when you purchase an annual&nbsp\;subscription to Good Morning Livingston\, and receive a program coupon to share. Subscriptions are transferable. Your $160 subscription gets you all eight GML programs in the series. <a href="http://cloud.chambermaster.com/userfiles/UserFiles/chambers/1376/File/GML/1415_GMLSubscriptionForm.ppt">Click here for a subscription form</a> . Past subscribers must re-submit a new form each year.<br />\n<br />\nOr purchase and pay for the series online at <a href="http://howell.chambermaster.com/events/details/2014-2015-gml-program-subscription-2388">http://howell.chambermaster.com/events/details/2014-2015-gml-program-subscription-2388</a>
LOCATION:Crystal Gardens - Livingston 5768 E. Grand River Ave. Howell
UID:e.1376.2396
SEQUENCE:3
DTSTAMP:20260425T143434Z
URL:https://chamber.howell.org/events/details/good-morning-livingston-09-09-2014-2396
END:VEVENT

END:VCALENDAR
