BEGIN:VCALENDAR
VERSION:2.0
PRODID:-//ChamberMaster//Event Calendar 2.0//EN
METHOD:PUBLISH
X-PUBLISHED-TTL:P3D
REFRESH-INTERVAL:P3D
CALSCALE:GREGORIAN
BEGIN:VEVENT
DTSTART:20260922T203000Z
DTEND:20260922T223000Z
X-MICROSOFT-CDO-ALLDAYEVENT:FALSE
SUMMARY:Howell Area Chamber Happy Hour
DESCRIPTION:The Chamber Ambassadors warmly invite all members to the monthly Happy Hour event. We also extend a complimentary invitation to future members for one Happy Hour\, allowing them to experience the valuable benefits of Howell Area Chamber membership. This gathering promises an evening filled with good times\, great connections\, and the opportunity to explore collaborations with our fellow Chamber members.
X-ALT-DESC;FMTTYPE=text/html:The Chamber Ambassadors warmly invite all members to the monthly Happy Hour event. We also extend a complimentary invitation to future members for one Happy Hour\, allowing them to experience the valuable benefits of Howell Area Chamber membership.&nbsp\;This gathering promises an evening filled with good times\, great connections\, and the opportunity to explore collaborations with our fellow Chamber members.<br />\n<br />\n&nbsp\;
LOCATION:Event Details: - Venue: TBD
UID:e.1376.23839
SEQUENCE:3
DTSTAMP:20260424T124245Z
URL:https://chamber.howell.org/events/details/howell-area-chamber-happy-hour-23839
END:VEVENT

END:VCALENDAR
