BEGIN:VCALENDAR
VERSION:2.0
PRODID:-//ChamberMaster//Event Calendar 2.0//EN
METHOD:PUBLISH
X-PUBLISHED-TTL:P3D
REFRESH-INTERVAL:P3D
CALSCALE:GREGORIAN
BEGIN:VEVENT
DTSTART:20260825T120000Z
DTEND:20260825T133000Z
X-MICROSOFT-CDO-ALLDAYEVENT:FALSE
SUMMARY:Inclusive Livingston PR/Media Training
DESCRIPTION:
X-ALT-DESC;FMTTYPE=text/html:
LOCATION:Livingston Buisness Hub 123 E. Washington St. Howel\, MI
UID:e.1376.24459
SEQUENCE:3
DTSTAMP:20260422T115905Z
URL:https://chamber.howell.org/events/details/inclusive-livingston-pr-media-training-24459
END:VEVENT

END:VCALENDAR
