BEGIN:VCALENDAR
VERSION:2.0
PRODID:-//ChamberMaster//Event Calendar 2.0//EN
METHOD:PUBLISH
X-PUBLISHED-TTL:P3D
REFRESH-INTERVAL:P3D
CALSCALE:GREGORIAN
BEGIN:VEVENT
DTSTART;VALUE=DATE:20260824
DTEND;VALUE=DATE:20260826
TRANSP:TRANSPARENT
X-MICROSOFT-CDO-ALLDAYEVENT:TRUE
SUMMARY:LEA GBB Pathway\, Cohort Launch
DESCRIPTION:
X-ALT-DESC;FMTTYPE=text/html:
LOCATION:Time and location-TBD
UID:e.1376.23834
SEQUENCE:3
DTSTAMP:20260424T141448Z
URL:https://chamber.howell.org/events/details/lea-gbb-pathway-cohort-launch-23834
END:VEVENT

END:VCALENDAR
