BEGIN:VCALENDAR
VERSION:2.0
PRODID:-//ChamberMaster//Event Calendar 2.0//EN
METHOD:PUBLISH
X-PUBLISHED-TTL:P3D
REFRESH-INTERVAL:P3D
CALSCALE:GREGORIAN
BEGIN:VEVENT
DTSTART:20210625T210000Z
DTEND:20210628T000000Z
X-MICROSOFT-CDO-ALLDAYEVENT:FALSE
SUMMARY:Michigan Challenge Balloonfest Game
DESCRIPTION:Welcome to the Michigan Challenge Balloonfest Game.  Gaming instructions will be emailed once you complete the online registration.\n\n\n\nHave fun and enjoy the sights\, sounds and tastes of Howell!  Be sure to "look-up" to watch the balloons as they grace the skies with color and all their majesty.
X-ALT-DESC;FMTTYPE=text/html:Welcome to the Michigan Challenge Balloonfest Game.&nbsp\; Gaming instructions will be emailed once you complete the online registration.<br />\n<br />\nHave fun and enjoy the sights\, sounds and tastes of Howell!&nbsp\; Be sure to &quot\;look-up&quot\; to watch the balloons as they grace the skies with color and all their majesty.
LOCATION:
UID:e.1376.17215
SEQUENCE:3
DTSTAMP:20260423T053822Z
URL:https://chamber.howell.org/events/details/michigan-challenge-balloonfest-game-17215
END:VEVENT

END:VCALENDAR
