BEGIN:VCALENDAR
VERSION:2.0
PRODID:-//ChamberMaster//Event Calendar 2.0//EN
METHOD:PUBLISH
X-PUBLISHED-TTL:P3D
REFRESH-INTERVAL:P3D
CALSCALE:GREGORIAN
BEGIN:VEVENT
DTSTART:20260509T180000Z
DTEND:20260509T210000Z
X-MICROSOFT-CDO-ALLDAYEVENT:FALSE
SUMMARY:North Star Reach | Open House
DESCRIPTION:North Star Reach's Annual Open House\, taking place on Saturday\, May 9 from 2-5 pm\, is one of the most joyful ways to experience North Star Reach\, and in 2026\, it's extra special as part of our 10th anniversary celebration.\n\nThis family-friendly\, community-wide event invites you to explore camp\, connect with our Campily\, and experience the magic that makes North Star Reach so meaningful.\n\nWhat to Expect\n\n\n	\n	Music\n	\n	\n	Food truck from La Finca Tacos (10% of proceeds are being donated back to camp!)\n	\n	\n	Arts & crafts\n	\n	\n	Archery and camp activities\n	\n	\n	Plenty of Mooseness\, laughter\, and connection\n	\n\n\nWhether you're visiting for the first time or returning as a longtime supporter\, Open House is a chance to see camp in action and celebrate the community that makes it all possible.\n\nEveryone is welcome   bring your friends\, family\, and neighbors and join us for a joyful afternoon at camp!
X-ALT-DESC;FMTTYPE=text/html:<p>North Star Reach&#39\;s&nbsp\;<strong>Annual Open House</strong>\, taking place on&nbsp\;<strong>Saturday\, May 9&nbsp\;</strong>from&nbsp\;<strong>2-5 pm</strong>\,&nbsp\;is one of the most joyful ways to experience North Star Reach\, and in 2026\, it&rsquo\;s extra special as part of our&nbsp\;<strong>10th anniversary celebration</strong>.</p>\n\n<p>This family-friendly\, community-wide event invites you to explore camp\, connect with our Campily\, and experience the magic that makes North Star Reach so meaningful.</p>\n\n<h3>What to Expect</h3>\n\n<ul>\n	<li>\n	<p style="margin-left:0px\; margin-right:0px">Music</p>\n	</li>\n	<li>\n	<p style="margin-left:0px\; margin-right:0px">Food truck from&nbsp\;<strong>La Finca Tacos&nbsp\;</strong>(10% of proceeds are being donated back to camp!)</p>\n	</li>\n	<li>\n	<p style="margin-left:0px\; margin-right:0px">Arts &amp\; crafts</p>\n	</li>\n	<li>\n	<p style="margin-left:0px\; margin-right:0px">Archery and camp activities</p>\n	</li>\n	<li>\n	<p style="margin-left:0px\; margin-right:0px">Plenty of Mooseness\, laughter\, and connection</p>\n	</li>\n</ul>\n\n<p>Whether you&rsquo\;re visiting for the first time or returning as a longtime supporter\, Open House is a chance to see camp in action and celebrate the community that makes it all possible.</p>\n\n<p style="margin-left:0px\; margin-right:0px">Everyone is welcome &hellip\; bring your friends\, family\, and neighbors and join us for a joyful afternoon at camp!</p>\n
LOCATION:North Star Reach 1200 University Camp Drive Pinckney\, MI 48169
UID:e.1376.24445
SEQUENCE:3
DTSTAMP:20260422T063805Z
URL:https://chamber.howell.org/events/details/north-star-reach-open-house-05-09-2026-24445
END:VEVENT

END:VCALENDAR
