BEGIN:VCALENDAR
VERSION:2.0
PRODID:-//ChamberMaster//Event Calendar 2.0//EN
METHOD:PUBLISH
X-PUBLISHED-TTL:P3D
REFRESH-INTERVAL:P3D
CALSCALE:GREGORIAN
BEGIN:VEVENT
DTSTART:20190605T220000Z
DTEND:20190606T010000Z
X-MICROSOFT-CDO-ALLDAYEVENT:FALSE
SUMMARY:Rock the Block
DESCRIPTION:Howell MI  Rock the Block kicks off the summer season in downtown Howell next Wednesday\, June 5th. Featuring live music outdoors on the 100 block of S. Center Street\, as well as the 100 block of N. Walnut Street\, this year's event will feature live music from 6:00-9:00 p.m. along with food vendors and beverages from Aberrant Ales! This is the first of the summer series which continues July 10 and August 7. \n\nThe June Rock the Block lineup includes: \n\n?h \n\nSinjon Smith (Detroit Based Country Rock Band) 100 block of S. Center Street by Cobb Hall Insurance Brews & Wine from Aberrant Ales Food: Fire & Rice\, Holy Smokes BBQ \n\n?h \n\nGreen Bottle Fly (A classic rock band who also throws in some blues and rockin' country for fun!) 100 block of N. Walnut Street \n\nBrews & Wine from Aberrant Ales Food: Tony's Dogs\, From Scratch Comfort Cruzine \n\n"Rock the Block continues to grow in popularity and attendance from our community. It's a great evening for residents and visitors of all ages to enjoy some free outdoor music while enjoying all that the downtown district has to offer. We can't wait to kick off another successful season!" \n\nEdgerly also thanked the sponsors that helped make Rock the Block a great success\, including: Citizens Insurance Hanover Foundation\, Segal McCambridge Singer & Mahoney\, Bob Maxey Ford of Howell\, First National Bank\, First Impression Print & Marketing\, along with St. Joseph Mercy Health System. \n\nFor complete information on Rock the Block\, visit the web site at \n\nhttp://www.rocktheblockhowell.org/
X-ALT-DESC;FMTTYPE=text/html:<p align="LEFT">&nbsp\;</p>\n\n<p><font size="3">Howell MI &ndash\;Rock the Block kicks off the summer season in downtown Howell next Wednesday\, June 5</font><font size="1">th</font><font size="3">. Featuring live music outdoors on the 100 block of S. Center Street\, as well as the 100 block of N. Walnut Street\, this year&rsquo\;s event will feature live music from 6:00-9:00 p.m. along with food vendors and beverages from Aberrant Ales! This is the first of the summer series which continues July 10 and August 7. </font></p>\n\n<p><font size="3">The June Rock the Block lineup includes: </font></p>\n\n<p><font size="3">?h </font></p>\n\n<p><b><font face="Arial\,Arial" size="3"><font face="Arial\,Arial" size="3">Sinjon Smith </font></font></b><font size="3">(Detroit Based Country Rock Band) 100 block of S. Center Street by Cobb Hall Insurance Brews &amp\; Wine from Aberrant Ales Food: Fire &amp\; Rice\, Holy Smokes BBQ </font></p>\n\n<p><font size="3">?h </font></p>\n\n<p><b><font face="Arial\,Arial" size="3"><font face="Arial\,Arial" size="3">Green Bottle Fly </font></font></b><font size="3">(A classic rock band who also throws in some blues and rockin&#39\; country for fun!) 100 block of N. Walnut Street </font></p>\n\n<p><font size="3">Brews &amp\; Wine from Aberrant Ales Food: Tony&rsquo\;s Dogs\, From Scratch Comfort Cruzine </font></p>\n\n<p><font size="3">&quot\;Rock the Block continues to grow in popularity and attendance from our community. It&rsquo\;s a great evening for residents and visitors of all ages to enjoy some free outdoor music while enjoying all that the downtown district has to offer. We can&rsquo\;t wait to kick off another successful season!&quot\; </font></p>\n\n<p><font size="3">Edgerly also thanked the sponsors that helped make Rock the Block a great success\, including: Citizens Insurance Hanover Foundation\, Segal McCambridge Singer &amp\; Mahoney\, Bob Maxey Ford of Howell\, First National Bank\, First Impression Print &amp\; Marketing\, along with St. Joseph Mercy Health System. </font></p>\n\n<p><font size="3">For complete information on Rock the Block\, visit the web site at </font></p>\n\n<p><font color="#0000e9" size="3"><font color="#0000e9" size="3">http://www.rocktheblockhowell.org/ </font></font></p>\n
LOCATION:100 block of N. Walnut Street & 100 block of S. Center Street by Cobb Hall Insurance
UID:e.1376.11977
SEQUENCE:3
DTSTAMP:20260422T042626Z
URL:https://chamber.howell.org/events/details/rock-the-block-11977
END:VEVENT

END:VCALENDAR
